BEGIN:VCALENDAR
VERSION:2.0
PRODID:-//Art Intersection - ECPv6.5.0.1//NONSGML v1.0//EN
CALSCALE:GREGORIAN
METHOD:PUBLISH
X-WR-CALNAME:Art Intersection
X-ORIGINAL-URL:https://artintersection.com
X-WR-CALDESC:Events for Art Intersection
REFRESH-INTERVAL;VALUE=DURATION:PT1H
X-Robots-Tag:noindex
X-PUBLISHED-TTL:PT1H
BEGIN:VTIMEZONE
TZID:America/Denver
BEGIN:DAYLIGHT
TZOFFSETFROM:-0700
TZOFFSETTO:-0600
TZNAME:MDT
DTSTART:20170312T090000
END:DAYLIGHT
BEGIN:STANDARD
TZOFFSETFROM:-0600
TZOFFSETTO:-0700
TZNAME:MST
DTSTART:20171105T080000
END:STANDARD
END:VTIMEZONE
BEGIN:VEVENT
DTSTART;TZID=America/Denver:20170801T100000
DTEND;TZID=America/Denver:20170902T180000
DTSTAMP:20260422T211207
CREATED:20170614T213724Z
LAST-MODIFIED:20190131T193241Z
UID:10008885-1501581600-1504375200@artintersection.com
SUMMARY:No Strangers - Annual Members Exhibition
DESCRIPTION:The Art Intersection No Strangers exhibition highlights the works of many of the Art Intersection members. It brings to the greater community the expression of our members through the presentation of their recent work. This year the North and South galleries will hold the curated artwork from Sponsor\, Patron\, and Collector level members. \nThis exhibition celebrates a very special part of our growing community\, our members. Within this community\, we strive to create a lively atmosphere for interesting dialogue and networking\, a place to share work\, and to learn from each other. Through exhibitions\, portfolio sharing\, group critiques\, and special member events\, we continue to forge relationships in a truly creative community. \nNo Strangers 2017 \n\n\n	\n		\n	\n	\n		\n		\n					\n				\n					\n	\n\n\n				\n			\n											\n				\n					\n	\n\n\n				\n			\n											\n				\n					\n	\n\n\n				\n			\n											\n				\n					\n	\n\n\n				\n			\n											\n				\n					\n	\n\n\n				\n			\n											\n				\n					\n	\n\n\n				\n			\n											\n				\n					\n	\n\n\n				\n			\n											\n				\n					\n	\n\n\n				\n			\n											\n				\n					\n	\n\n\n				\n			\n											\n				\n					\n	\n\n\n				\n			\n											\n				\n					\n	\n\n\n				\n			\n											\n				\n					\n	\n\n\n				\n			\n											\n				\n					\n	\n\n\n				\n			\n											\n				\n					\n	\n\n\n				\n			\n											\n				\n					\n	\n\n\n				\n			\n											\n				\n					\n	\n\n\n				\n			\n											\n				\n					\n	\n\n\n				\n			\n											\n				\n					\n	\n\n\n				\n			\n											\n				\n					\n	\n\n\n				\n			\n											\n				\n					\n	\n\n\n				\n			\n											\n				\n					\n	\n\n\n				\n			\n											\n				\n					\n	\n\n\n				\n			\n											\n				\n					\n	\n\n\n				\n			\n											\n				\n					\n	\n\n\n				\n			\n											\n				\n					\n	\n\n\n				\n			\n											\n				\n					\n	\n\n\n				\n			\n											\n				\n					\n	\n\n\n				\n			\n											\n				\n					\n	\n\n\n				\n			\n											\n				\n					\n	\n\n\n				\n			\n											\n				\n					\n	\n\n\n				\n			\n											\n				\n					\n	\n\n\n				\n			\n											\n				\n					\n	\n\n\n				\n			\n											\n				\n					\n	\n\n\n				\n			\n											\n				\n					\n	\n\n\n				\n			\n											\n				\n					\n	\n\n\n				\n			\n											\n				\n					\n	\n\n\n				\n			\n											\n				\n					\n	\n\n\n				\n			\n											\n				\n					\n	\n\n\n				\n			\n											\n				\n					\n	\n\n\n				\n			\n											\n				\n					\n	\n\n\n				\n			\n											\n				\n					\n	\n\n\n				\n			\n											\n				\n					\n	\n\n\n				\n			\n											\n				\n					\n	\n\n\n				\n			\n											\n				\n					\n	\n\n\n				\n			\n											\n				\n					\n	\n\n\n				\n			\n											\n				\n					\n	\n\n\n				\n			\n											\n				\n					\n	\n\n\n				\n			\n											\n				\n					\n	\n\n\n				\n			\n											\n				\n					\n	\n\n\n				\n			\n											\n				\n					\n	\n\n\n				\n			\n											\n				\n					\n	\n\n\n				\n			\n											\n				\n					\n	\n\n\n				\n			\n											\n				\n					\n	\n\n\n				\n			\n											\n				\n					\n	\n\n\n				\n			\n											\n				\n					\n	\n\n\n				\n			\n											\n				\n					\n	\n\n\n				\n			\n											\n				\n					\n	\n\n\n				\n			\n											\n				\n					\n	\n\n\n				\n			\n											\n				\n					\n	\n\n\n				\n			\n											\n				\n					\n	\n\n\n				\n			\n											\n				\n					\n	\n\n\n				\n			\n											\n				\n					\n	\n\n\n				\n			\n											\n				\n					\n	\n\n\n				\n			\n											\n				\n					\n	\n\n\n				\n			\n											\n				\n					\n	\n\n\n				\n			\n											\n				\n					\n	\n\n\n				\n			\n											\n				\n					\n	\n\n\n				\n			\n											\n				\n					\n	\n\n\n				\n			\n											\n				\n					\n	\n\n\n				\n			\n											\n				\n					\n	\n\n\n				\n			\n											\n				\n					\n	\n\n\n				\n			\n											\n				\n					\n	\n\n\n				\n			\n											\n				\n					\n	\n\n\n				\n			\n											\n				\n					\n	\n\n\n				\n			\n											\n				\n					\n	\n\n\n				\n			\n											\n				\n					\n	\n\n\n				\n			\n											\n				\n					\n	\n\n\n				\n			\n											\n				\n					\n	\n\n\n				\n			\n											\n				\n					\n	\n\n\n				\n			\n											\n				\n					\n	\n\n\n				\n			\n											\n				\n					\n	\n\n\n				\n			\n											\n				\n					\n	\n\n\n				\n			\n											\n				\n					\n	\n\n\n				\n			\n											\n				\n					\n	\n\n\n				\n			\n											\n				\n					\n	\n\n\n				\n			\n											\n				\n					\n	\n\n\n				\n			\n											\n				\n					\n	\n\n\n				\n			\n											\n				\n					\n	\n\n\n				\n			\n											\n				\n					\n	\n\n\n				\n			\n											\n				\n					\n	\n\n\n				\n			\n											\n				\n					\n	\n\n\n				\n			\n											\n				\n					\n	\n\n\n				\n			\n											\n				\n					\n	\n\n\n				\n			\n											\n				\n					\n	\n\n\n				\n			\n											\n				\n					\n	\n\n\n				\n			\n											\n				\n					\n	\n\n\n				\n			\n											\n				\n					\n	\n\n\n				\n			\n											\n				\n					\n	\n\n\n				\n			\n											\n				\n					\n	\n\n\n				\n			\n											\n				\n					\n	\n\n\n				\n			\n											\n				\n					\n	\n\n\n				\n			\n											\n				\n					\n	\n\n\n				\n			\n											\n				\n					\n	\n\n\n				\n			\n											\n				\n					\n	\n\n\n				\n			\n											\n				\n					\n	\n\n\n				\n			\n											\n				\n					\n	\n\n\n				\n			\n											\nFeatured Artists\nBrad Armstrong\, Mark Bennett\, Andy Burgess\, Dennis L. Collins\, Betty Drake\, Charlene Stant Engel\, Suzanne Fallender\, Gordon Fong\, Rick Gayle\, James Biagio Gilbreath\, Art Holeman\, Michael C Hughes\, Jodi Koller-Smee\, Mark Lipczynski\, Fredric-Lawrence Maffie\, Larry Mangino\, David B Moore\, Jessica Page\, Nancy Miiller\, Neil A. Miller\, Tess Mosko Scherer\, Cyd Peroni\, Michael Pierre Price\, Siegfried Rempel\, Deborah Silvis\, BK Skaggs\, Mark S Skalny\, Eugene Starobinskiy\, j.e. syme\, Theresa Tarara\, Ira Thomas\, Marilyn G. Ticknor\, Mark Timpany\, Fred Ullrich\, Barbara Usey\, Ted Wendel\, Lon Woodruff\,  Brooke Wright\, Scott Carlton Youmans\, Elaine Young \n  \nHeader image credit: J. E. Syme (left) and Michael Pierre Price (right)
URL:https://artintersection.com/event/no-strangers-annual-members-exhibition/
LOCATION:Art Intersection\, 207 N Gilbert Rd # 210\, Gilbert\, AZ\, 85234\, United States
CATEGORIES:Exhibitions,Hide from Upcoming,Featured
ATTACH;FMTTYPE=image/jpeg:https://artintersection.com/wp-content/uploads/2017/06/No-Strangers-Page-Header-800-x-400px.jpg
GEO:33.3537421;-111.7894299
X-APPLE-STRUCTURED-LOCATION;VALUE=URI;X-ADDRESS=Art Intersection 207 N Gilbert Rd # 210 Gilbert AZ 85234 United States;X-APPLE-RADIUS=500;X-TITLE=207 N Gilbert Rd # 210:geo:-111.7894299,33.3537421
END:VEVENT
BEGIN:VEVENT
DTSTART;TZID=America/Denver:20170812T080000
DTEND;TZID=America/Denver:20170916T170000
DTSTAMP:20260422T211208
CREATED:20170812T232021Z
LAST-MODIFIED:20170812T232021Z
UID:10008893-1502524800-1505581200@artintersection.com
SUMMARY:Images from the 2017 Summer Teen Camps
DESCRIPTION:Art Intersection is proud to present a selection of artwork made by young photographers during our 2017 summer teen camps including Exploring Photography Sessions 1 and 2 and Darkroom Photography for Teens. \nOur Exploring Photography students tackled both darkroom and digital photography: they shot black and white film with SLR cameras and processed it themselves\, took digital pictures\, and made both darkroom and digital prints of their images. Along the way\, they also experimented with photograms and lumen prints. These students learned new things every day and had fun trying out these varied techniques. \nOur Darkroom Photography students shot 35mm\, 120mm\, and 4×5″ film\, mastering multiple cameras and formats at once while working on their own self-defined artistic project. In addition to processing all that film\, they utilized advanced darkroom techniques such as split-filter printing to make high-quality prints for their portfolio. These students got to experiment with professional materials while spending lots of quality time in the darkroom refining their craft. \nThough our camps this summer were only 4 days long each\, the amount of work our students accomplished and the level of growth shown was incredible. This exhibition is the best of the best\, and only a fraction of all the wonderful photographs our students made.  \nWe are so proud of the work our 2017 teen camp students created!
URL:https://artintersection.com/event/images-from-the-2017-summer-teen-camps/
LOCATION:AZ
CATEGORIES:Exhibitions,Hide from Upcoming,Featured
ATTACH;FMTTYPE=image/jpeg:https://artintersection.com/wp-content/uploads/2017/08/Cade_DSC_0124_header.jpg
END:VEVENT
END:VCALENDAR