BEGIN:VCALENDAR
VERSION:2.0
PRODID:-//Art Intersection - ECPv6.5.0.1//NONSGML v1.0//EN
CALSCALE:GREGORIAN
METHOD:PUBLISH
X-WR-CALNAME:Art Intersection
X-ORIGINAL-URL:https://artintersection.com
X-WR-CALDESC:Events for Art Intersection
REFRESH-INTERVAL;VALUE=DURATION:PT1H
X-Robots-Tag:noindex
X-PUBLISHED-TTL:PT1H
BEGIN:VTIMEZONE
TZID:America/Denver
BEGIN:DAYLIGHT
TZOFFSETFROM:-0700
TZOFFSETTO:-0600
TZNAME:MDT
DTSTART:20160313T090000
END:DAYLIGHT
BEGIN:STANDARD
TZOFFSETFROM:-0600
TZOFFSETTO:-0700
TZNAME:MST
DTSTART:20161106T080000
END:STANDARD
BEGIN:DAYLIGHT
TZOFFSETFROM:-0700
TZOFFSETTO:-0600
TZNAME:MDT
DTSTART:20170312T090000
END:DAYLIGHT
BEGIN:STANDARD
TZOFFSETFROM:-0600
TZOFFSETTO:-0700
TZNAME:MST
DTSTART:20171105T080000
END:STANDARD
END:VTIMEZONE
BEGIN:VEVENT
DTSTART;TZID=America/Denver:20161202T080000
DTEND;TZID=America/Denver:20170409T170000
DTSTAMP:20260423T013428
CREATED:20170124T225312Z
LAST-MODIFIED:20170209T181510Z
UID:10008877-1480665600-1491757200@artintersection.com
SUMMARY:INFOCUS Juried Exhibition of Self-Published Photobooks
DESCRIPTION:From the earliest years of the medium’s history\, photographers have embraced the book form as a way to present\, organize and disseminate their work. The purpose of this second triennial Photobooks exhibition is to explore the range of ways that artists are using newly available commercial technologies in order to express themselves today. The exhibition represents the books chosen by judges Rebecca Senf\, Mary Virginia Swanson\, Darius Himes\, Larissa Leclair\, Christian Waguespack and Philip Zimmermann. \nThese books hail from all over the United States (including four local examples from Arizona)\, and 12 countries on five continents\, including Australia\, Russia\, Chile\, Norway\, The Netherlands\, England\, Germany\, France\, Canada\, New Zealand\, Japan\, and Italy. \nSelected books showcase a wide range of printing technologies\, including offset lithography\, digital inkjet printing\, letterpress\, laser printing\, and photocopying.
URL:https://artintersection.com/event/self-published-photobooks-exhibition/
LOCATION:Phoenix Art Museum\, 1625 N. Central Avenue\, Phoenix\, AZ\, 85004\, United States
CATEGORIES:INFOCUS,Hide from Upcoming,Community
ATTACH;FMTTYPE=image/jpeg:https://artintersection.com/wp-content/uploads/2017/01/IMG_0390.jpg
GEO:33.466978;-112.072569
X-APPLE-STRUCTURED-LOCATION;VALUE=URI;X-ADDRESS=Phoenix Art Museum 1625 N. Central Avenue Phoenix AZ 85004 United States;X-APPLE-RADIUS=500;X-TITLE=1625 N. Central Avenue:geo:-112.072569,33.466978
END:VEVENT
BEGIN:VEVENT
DTSTART;TZID=America/Denver:20170109T080000
DTEND;TZID=America/Denver:20170309T170000
DTSTAMP:20260423T013428
CREATED:20161223T213405Z
LAST-MODIFIED:20161223T213405Z
UID:10008866-1483948800-1489078800@artintersection.com
SUMMARY:Foto Five
DESCRIPTION:Five Arizona photographer/artists are represented in this exhibition of photography in the digital age. The artists are: Bob Estrin\, Davin Lavikka\, Don and Linda Asakawa\, Wayne Norton and Kip Sudduth. All are utilizing the latest developments in techniques for photographic art. \nWVAM exhibits are held in the Peoria City Hall Art Gallery located at 8401 W. Monroe St.\, Peoria\, AZ 85345. Gallery hours are Monday through Wednesday\, 10 am to 4 pm and Thursdays from noon to 6pm. Call 623-972-0635 for details.
URL:https://artintersection.com/event/foto-five/
LOCATION:Peoria City Hall Art Gallery\, 8401 W. Monroe St.\, Peoria\, AZ\, 85345\, United States
CATEGORIES:Hide from Upcoming,West Valley Art Museum,Community
ATTACH;FMTTYPE=image/jpeg:https://artintersection.com/wp-content/uploads/2016/12/Foto-Five.jpg
GEO:33.5766133;-112.240337
X-APPLE-STRUCTURED-LOCATION;VALUE=URI;X-ADDRESS=Peoria City Hall Art Gallery 8401 W. Monroe St. Peoria AZ 85345 United States;X-APPLE-RADIUS=500;X-TITLE=8401 W. Monroe St.:geo:-112.240337,33.5766133
END:VEVENT
BEGIN:VEVENT
DTSTART;TZID=America/Denver:20170114T080000
DTEND;TZID=America/Denver:20170211T170000
DTSTAMP:20260423T013428
CREATED:20170121T001526Z
LAST-MODIFIED:20170121T001526Z
UID:10008872-1484380800-1486832400@artintersection.com
SUMMARY:Luster: a solo exhbition by Mary Meyer
DESCRIPTION:Luster\, featuring new work by Arizona artist Mary Meyer\, will be open in the Jewel Gallery alongside the 10×10 Exhibition & Sale. The Luster series is an ongoing body of work that features an evolution of cast aluminum forms originally hand sculpted in clay. \nArtist Statement\nThe series is inspired by our physical and spiritual connection to the natural world. Each aluminum form is unique\, and has it’s own unique pattern that is repeated within the corresponding niche of the panel that houses it. The panels are comprised of layered wood that is hand carved\, rubbed with graphite\, and sealed. Each individual aluminum figure is suspended by a sewing needle; a symbol of the repetitious activity that is so integral to my art. The carvings/castings speak of life\, growth\, and the ubiquitous shapes\, patterns\, and symmetries that connect all living things. \nOur environment continually becomes smaller\, louder\, less physical. But\, we all come from a quiet place of origin; a seed\, an egg\, a womb. A simple place with no distractions that holds an internalized energy. My goal with this exhibition is to create a place of quiet radiance. A meditative space designed to evoke an atmosphere of stillness\, reflection\, and recognition. \nLuster 22\, Mary Meyer
URL:https://artintersection.com/event/luster-a-solo-exhbition-by-mary-meyer/
LOCATION:Coconino Center for the Arts\, 2300 North Fort Valley Road\, Flagstaff\, AZ\, 86002\, United States
CATEGORIES:Community
ATTACH;FMTTYPE=image/jpeg:https://artintersection.com/wp-content/uploads/2017/01/2-Meyer_Luster-22-detail_header.jpg
GEO:35.2233199;-111.6555759
X-APPLE-STRUCTURED-LOCATION;VALUE=URI;X-ADDRESS=Coconino Center for the Arts 2300 North Fort Valley Road Flagstaff AZ 86002 United States;X-APPLE-RADIUS=500;X-TITLE=2300 North Fort Valley Road:geo:-111.6555759,35.2233199
END:VEVENT
BEGIN:VEVENT
DTSTART;TZID=America/Denver:20170114T080000
DTEND;TZID=America/Denver:20170225T180000
DTSTAMP:20260423T013428
CREATED:20161207T150402Z
LAST-MODIFIED:20170111T223507Z
UID:10008582-1484380800-1488045600@artintersection.com
SUMMARY:Independent Presence Exhibition
DESCRIPTION:Exhibition\nIndependent Presence\, an exhibition bringing the mystery\, nature and narrative themes of six independent artists\, delivers the power of presence through work ranging from pinhole cameras and darkroom alchemy to digital capture. Each artist\, with her own style and vision\, shares a connection\, linked together through Salon Jane. \nThese innovative artists escape the deep-rooted West Coast tradition of straight photography to transcend the ordinary by creating work that captures their essence. Through their relationship in the safe and supportive environment of Salon Jane\, each artist seeks to expand her creativity\, experiment with artistic ideas\, and receive honest feedback to push the boundaries of their craft so they can continue to innovate in an already over-saturated discipline. \n\nArtist Talk in the Gallery\nAn Artist Talk  precedes the opening reception giving us the opportunity to hear from these accomplished artists as they discuss their work and background\, creative processes\, and the connection that brings them together through Salon Jane. You can expect an engaging discussion offering insights to their individual work and the synergy generated through their commitment to supporting each other’s creative growth. \nArtists of Salon Jane – Robin V. Robinson\, Jane Olin\, Robin Ward\, Martha Casanave\, Susan Hyde Greene\, Anna Rheim \n \n\nSui Generis\nThe avant-garde rock ‘n roll diva\, Nina Hagen\, said it most clearly: “I know who I am and I am willing to declare myself.” To declare yourself you must first find your place in the world – a physical place\, a technical place\, a psychological spiritual emotional place – a place from which you can do the work you are meant to do.  Without such a place it is difficult to speak authentically on the issues you mean to address.  \nThe artists in this exhibition have found their place by the whole variety of means that artists use to decide who they are\, but particularly by extracting themselves from the embrace of two photographic traditions that have become oppressive (West Coast landscape photography and conceptual photography) thereby freeing their intuitions to guide them towards the work they truly need to do.  The resulting work belongs to no school of photography but is rather more sui generis – it generates itself out of intuition\, out of perception\, out of spiritual emotional and psychological relationships with the subject matter\, and out of an intimate but lighthearted relationship with photography’s notorious technical side\, all to the effect that these artists know who they are and are willing to declare themselves. \n– David Bayles\nCo-author of the well-known book Art & Fear: Observations on the Perils (and Rewards) of Artmaking \n\n \nWest Coast Focus – E6 – Pushing the Wet Darkroom from Steve Zmak on Vimeo. \n\nArtist Bios\nMartha Casanave has been a working\, exhibiting\, and award-winning photographer and educator for 40 years. She currently teaches photography at Monterey Peninsula College and Cabrillo College. Casanave has published four books of her work. Her latest monograph\, Trajectories\, A Half Century of Portraits (Image Continuum Press) was released in 2013. Casanave’s photographs are included in many major collections\, including the J. Paul Getty Museum\, the Art Institute of Chicago\, the Boston Museum of Fine Arts\, the Bibliotheque Nationale\, and the Museum of the History of Photography\, St. Petersburg\, Russia. \nSusan Hyde Greene’s images relay stories from impressions of experiences\, thoughts and memories about the world around her. She slices and mends photographs into new images. Greene received her BFA in textiles\, photography and art history from the University of Hawaii\, Manoa and her MFA from the University of Utah. She is represented by Smith Andersen North\, Green Chalk Contemporary\, and SFMOMA Artists Gallery\, and is represented in various public and private collections\, including Adobe Systems. She won first place in the Center for Photographic Art’s 2013 Juried Exhibition and received a Marin Arts Council Individual Artists Grant. \nJane Olin has worked as a photographer in the Monterey Bay area for over twenty-five years\, and has studied with Ruth Bernhard\, John Sexton\, and Joyce Tenneson\, among others. She loves to experiment with focus\, exposure\, and printing techniques\, both in-camera and in the darkroom. She has exhibited throughout the U. S. and Europe\, and was featured in a recent two-person show at the Center for Photographic Art in Carmel\, CA. Her work is in the permanent collection of the Crocker Art Museum\, Sacramento\, Monterey Museum of Art\, Monterey\, Triton Museum of Art\, Santa Clara\, and Museum of Photographic Arts\, San Diego. \nAnna Rheim graduated from Stanford University with a BA in History in 1966. She studied black and white photography and mixed media at Monterey Peninsula College with Henry Gilpin\, Roger Fremier\, and Don Anderson\, and color photography and printing at University of California Santa Cruz with Jack Fulton. Anna has taken private classes with many noted photographers including David Bayles\, Ruth Bernhard\, Martha Casanave\, Lisl Dennis\, Tom Millea\, and Ted Orland. \nRobin V. Robinson is a fifth generation California central coast native. She received degrees in Engineering and Music from Stanford University and Cal Poly\, San Luis Obispo. Robinson studied photography with west coast photography mentors and at City College of San Francisco and Foothill College.  She has received top awards in international photographic competitions\, and her work is in the permanent collection of the Monterey Museum of Art\, the Bibliotheque Nationale de France\, and the Mariners’ Museum in Virginia. Robinson is a Fine Print artist at the Center for Photographic Art in Carmel\, CA\, a Cal Poly College of Liberal Arts supporter\, and a board member of the Monterey Friends of C.G. Jung. \nRobin Ward discovered her love of photography at the University of North Carolina\, Charlotte where she received a BA in English. She continued her photography studies by participating in various workshops\, including Brooks Institute of Photography and the Center for Photographic Art where she served as a Trustee from 2010-2016. She has received several international awards\, including International Photography Awards and Black & White Spider Awards and exhibited her work in numerous galleries and museums throughout the US.
URL:https://artintersection.com/event/independent-presence-exhibition/
LOCATION:Art Intersection\, 207 N Gilbert Rd # 210\, Gilbert\, AZ\, 85234\, United States
CATEGORIES:Hide from Upcoming,Exhibitions,Featured
ATTACH;FMTTYPE=image/jpeg:https://artintersection.com/wp-content/uploads/2016/12/IP2017-Composite-Final-1200x1130px.jpg
GEO:33.3537421;-111.7894299
X-APPLE-STRUCTURED-LOCATION;VALUE=URI;X-ADDRESS=Art Intersection 207 N Gilbert Rd # 210 Gilbert AZ 85234 United States;X-APPLE-RADIUS=500;X-TITLE=207 N Gilbert Rd # 210:geo:-111.7894299,33.3537421
END:VEVENT
BEGIN:VEVENT
DTSTART;TZID=America/Denver:20170120T190000
DTEND;TZID=America/Denver:20170311T210000
DTSTAMP:20260423T013428
CREATED:20161223T212706Z
LAST-MODIFIED:20161223T212706Z
UID:10008867-1484938800-1489266000@artintersection.com
SUMMARY:Opus 99: The Photography of Robert Rice
DESCRIPTION:An Arizona resident since 1974\, Robert Rice has photographed for over 40 years. Largely focusing on flowers\, nature and landscapes. Robert’s work has often concentrated on the borderline between abstract and reality. Robert has studied with Ansel Adams\, James Hajicek\, and Carol Panaro-Smith. Robert has worked in a variety of formats from traditional camera to digital. He has created a wide range of work including still life\, architecture\, and landscape. The work presented represents 44 years of his work in photography. \nRobert’s work has been shown at Art Intersection in Gilbert\, Arizona\, the Vision Gallery in Chandler\, Arizona\, the Boyce Thompson Arboretum\, the Chandler Public Library and the Chandler Unified School District. In 2001 Mr. Rice won the “Photograph of the Year” Award from the AFECA Tour Consultants. \nWaterfall\, Platinum Print\, 2005 \nHead\, Pigment Print\, 2004 \nHayfield\, Pigment Print\, 2004
URL:https://artintersection.com/event/opus-99-the-photography-of-robert-rice/
LOCATION:Vision Gallery\, 10 East Chicago Street\, Chandler\, AZ\, 85225\, United States
CATEGORIES:Hide from Upcoming,Vision Gallery Chandler,Community
ATTACH;FMTTYPE=image/jpeg:https://artintersection.com/wp-content/uploads/2016/12/rice_2_header.jpg
GEO:33.3006463;-111.8413316
X-APPLE-STRUCTURED-LOCATION;VALUE=URI;X-ADDRESS=Vision Gallery 10 East Chicago Street Chandler AZ 85225 United States;X-APPLE-RADIUS=500;X-TITLE=10 East Chicago Street:geo:-111.8413316,33.3006463
END:VEVENT
END:VCALENDAR