BEGIN:VCALENDAR
VERSION:2.0
PRODID:-//Art Intersection - ECPv6.5.0.1//NONSGML v1.0//EN
CALSCALE:GREGORIAN
METHOD:PUBLISH
X-WR-CALNAME:Art Intersection
X-ORIGINAL-URL:https://artintersection.com
X-WR-CALDESC:Events for Art Intersection
REFRESH-INTERVAL;VALUE=DURATION:PT1H
X-Robots-Tag:noindex
X-PUBLISHED-TTL:PT1H
BEGIN:VTIMEZONE
TZID:America/Denver
BEGIN:DAYLIGHT
TZOFFSETFROM:-0700
TZOFFSETTO:-0600
TZNAME:MDT
DTSTART:20150308T090000
END:DAYLIGHT
BEGIN:STANDARD
TZOFFSETFROM:-0600
TZOFFSETTO:-0700
TZNAME:MST
DTSTART:20151101T080000
END:STANDARD
END:VTIMEZONE
BEGIN:VEVENT
DTSTART;TZID=America/Denver:20151114T090000
DTEND;TZID=America/Denver:20151114T170000
DTSTAMP:20260423T151514
CREATED:20150816T001453Z
LAST-MODIFIED:20151003T190513Z
UID:5103-1447491600-1447520400@artintersection.com
SUMMARY:Wet Plate Collodion Tintype Workshop
DESCRIPTION:Originally invented in the 1850s\, this early photographic process involves pouring a collodion emulsion over a plate and exposing the sensitized plate before the coating dries. \nStudents will learn the basics of the wet plate collodion process using metal as the substrate\, and create two images. Students will go through the process of preparing\, exposing\, developing\, fixing and varnishing the plate.  Images will be captured with a 4×5 view camera\, and all materials are included to create two tintypes. \nThe weekend begins with a free lecture\, open to the public\, on Thursday evening\, workshop all day Saturday\, and an open lab (additional fee) on Sunday. \n 
URL:https://artintersection.com/event/wet-plate-collodion-tintype-workshop/
LOCATION:Art Intersection\, 207 N Gilbert Rd # 210\, Gilbert\, AZ\, 85234\, United States
CATEGORIES:Darkroom
ATTACH;FMTTYPE=image/jpeg:https://artintersection.com/wp-content/uploads/2015/07/DSC_5799_header.jpg
GEO:33.3537421;-111.7894299
X-APPLE-STRUCTURED-LOCATION;VALUE=URI;X-ADDRESS=Art Intersection 207 N Gilbert Rd # 210 Gilbert AZ 85234 United States;X-APPLE-RADIUS=500;X-TITLE=207 N Gilbert Rd # 210:geo:-111.7894299,33.3537421
END:VEVENT
END:VCALENDAR