BEGIN:VCALENDAR
VERSION:2.0
PRODID:-//Art Intersection - ECPv6.5.0.1//NONSGML v1.0//EN
CALSCALE:GREGORIAN
METHOD:PUBLISH
X-WR-CALNAME:Art Intersection
X-ORIGINAL-URL:https://artintersection.com
X-WR-CALDESC:Events for Art Intersection
REFRESH-INTERVAL;VALUE=DURATION:PT1H
X-Robots-Tag:noindex
X-PUBLISHED-TTL:PT1H
BEGIN:VTIMEZONE
TZID:America/Denver
BEGIN:DAYLIGHT
TZOFFSETFROM:-0700
TZOFFSETTO:-0600
TZNAME:MDT
DTSTART:20150308T090000
END:DAYLIGHT
BEGIN:STANDARD
TZOFFSETFROM:-0600
TZOFFSETTO:-0700
TZNAME:MST
DTSTART:20151101T080000
END:STANDARD
END:VTIMEZONE
BEGIN:VEVENT
DTSTART;TZID=America/Denver:20151115T100000
DTEND;TZID=America/Denver:20151115T160000
DTSTAMP:20260423T171339
CREATED:20150816T001641Z
LAST-MODIFIED:20150930T002800Z
UID:5102-1447581600-1447603200@artintersection.com
SUMMARY:Wet Plate Collodion Tintype Open Studio
DESCRIPTION:This is a follow-up lab for participants of current and past Wet Plate Collodion Tintype Workshops at Art Intersection wanting dedicated time to practice tintypes under the assistance of David Emitt Adams. David will be available to answer questions and help you create your own tintypes. \nTintype plates (aluminum) for this open lab day must be purchased at Art Intersection\, 4″x5″ plates for $5 each or 8″ x 10″ plates for $20 each.  These plates fit the carrier for the Art Intersection 4×5 and 8×10 cameras\, or you can bring your own camera and cut the tin to your size. Wet plate chemistry is included in the price of the metal plates. \nThe lab includes softbox continuous lighting in the studio.
URL:https://artintersection.com/event/wet-plate-collodion-tintype-open-studio-2/
LOCATION:Art Intersection\, 207 N Gilbert Rd # 210\, Gilbert\, AZ\, 85234\, United States
CATEGORIES:Darkroom
ATTACH;FMTTYPE=image/jpeg:https://artintersection.com/wp-content/uploads/2015/07/DSC_3022_header.jpg
GEO:33.3537421;-111.7894299
X-APPLE-STRUCTURED-LOCATION;VALUE=URI;X-ADDRESS=Art Intersection 207 N Gilbert Rd # 210 Gilbert AZ 85234 United States;X-APPLE-RADIUS=500;X-TITLE=207 N Gilbert Rd # 210:geo:-111.7894299,33.3537421
END:VEVENT
END:VCALENDAR