BEGIN:VCALENDAR
VERSION:2.0
PRODID:-//Art Intersection - ECPv6.5.0.1//NONSGML v1.0//EN
CALSCALE:GREGORIAN
METHOD:PUBLISH
X-WR-CALNAME:Art Intersection
X-ORIGINAL-URL:https://artintersection.com
X-WR-CALDESC:Events for Art Intersection
REFRESH-INTERVAL;VALUE=DURATION:PT1H
X-Robots-Tag:noindex
X-PUBLISHED-TTL:PT1H
BEGIN:VTIMEZONE
TZID:America/Denver
BEGIN:DAYLIGHT
TZOFFSETFROM:-0700
TZOFFSETTO:-0600
TZNAME:MDT
DTSTART:20150308T090000
END:DAYLIGHT
BEGIN:STANDARD
TZOFFSETFROM:-0600
TZOFFSETTO:-0700
TZNAME:MST
DTSTART:20151101T080000
END:STANDARD
END:VTIMEZONE
BEGIN:VEVENT
DTSTART;TZID=America/Denver:20151112T183000
DTEND;TZID=America/Denver:20151112T200000
DTSTAMP:20260423T171508
CREATED:20150919T215148Z
LAST-MODIFIED:20150923T195135Z
UID:5424-1447353000-1447358400@artintersection.com
SUMMARY:Tintype Lecture with David Emitt Adams
DESCRIPTION:Originally invented in the 1850s\, this early photographic process involves pouring a collodion emulsion over a plate and exposing the sensitized plate before the coating dries. David Emitt Adams will give a lecture on this process\, including how he implements it in his own art practice\, on Thursday\, November 12. This lecture is free and open to the public. \nAfter attending the lecture\, join us for our tintype workshop and open studio with Adams Saturday and Sunday\, November 14 and 15! \nGetting Along by David Emitt Adams
URL:https://artintersection.com/event/tintype-lecture-with-david-emitt-adams/
LOCATION:Art Intersection\, 207 N Gilbert Rd # 210\, Gilbert\, AZ\, 85234\, United States
CATEGORIES:Lecture,Special Events
ATTACH;FMTTYPE=image/jpeg:https://artintersection.com/wp-content/uploads/2015/09/Adams-Lecture-Header-scaled.jpg
GEO:33.3537421;-111.7894299
X-APPLE-STRUCTURED-LOCATION;VALUE=URI;X-ADDRESS=Art Intersection 207 N Gilbert Rd # 210 Gilbert AZ 85234 United States;X-APPLE-RADIUS=500;X-TITLE=207 N Gilbert Rd # 210:geo:-111.7894299,33.3537421
END:VEVENT
END:VCALENDAR