BEGIN:VCALENDAR
VERSION:2.0
PRODID:-//Art Intersection - ECPv6.5.0.1//NONSGML v1.0//EN
CALSCALE:GREGORIAN
METHOD:PUBLISH
X-WR-CALNAME:Art Intersection
X-ORIGINAL-URL:https://artintersection.com
X-WR-CALDESC:Events for Art Intersection
REFRESH-INTERVAL;VALUE=DURATION:PT1H
X-Robots-Tag:noindex
X-PUBLISHED-TTL:PT1H
BEGIN:VTIMEZONE
TZID:America/Denver
BEGIN:DAYLIGHT
TZOFFSETFROM:-0700
TZOFFSETTO:-0600
TZNAME:MDT
DTSTART:20120311T090000
END:DAYLIGHT
BEGIN:STANDARD
TZOFFSETFROM:-0600
TZOFFSETTO:-0700
TZNAME:MST
DTSTART:20121104T080000
END:STANDARD
END:VTIMEZONE
BEGIN:VEVENT
DTSTART;TZID=America/Denver:20121006T090000
DTEND;TZID=America/Denver:20121006T110000
DTSTAMP:20260422T121350
CREATED:20120908T062706Z
LAST-MODIFIED:20121012T062633Z
UID:481-1349514000-1349521200@artintersection.com
SUMMARY:MIXED GENRE - Finding the Crossroads: Where Character and Events Collide (fiction and non-fiction)
DESCRIPTION:So often we have an idea about who we want to write about\, but we can’t find a form\, or we know what we want to happen\, but our stories won’t come to life. This class will explore the magical crossroads where character and events collide. We will examine visual art to see how events can illuminate and reveal character\, then learn practical strategies for applying this to our own writing. Plan to write a new story while you’re here and to leave with a simple technique for finding the magic in whatever you write. \n 
URL:https://artintersection.com/event/mixed-genre-finding-the-crossroads-where-character-and-events-collide-fiction-and-non-fiction/
LOCATION:Art Intersection\, 207 N Gilbert Rd # 210\, Gilbert\, AZ\, 85234\, United States
CATEGORIES:Creative Writing
ATTACH;FMTTYPE=image/jpeg:https://artintersection.com/wp-content/uploads/2012/10/Grey-Write-Now-scaled.jpg
GEO:33.3537421;-111.7894299
X-APPLE-STRUCTURED-LOCATION;VALUE=URI;X-ADDRESS=Art Intersection 207 N Gilbert Rd # 210 Gilbert AZ 85234 United States;X-APPLE-RADIUS=500;X-TITLE=207 N Gilbert Rd # 210:geo:-111.7894299,33.3537421
END:VEVENT
END:VCALENDAR