BEGIN:VCALENDAR
VERSION:2.0
PRODID:-//Art Intersection - ECPv6.5.0.1//NONSGML v1.0//EN
CALSCALE:GREGORIAN
METHOD:PUBLISH
X-WR-CALNAME:Art Intersection
X-ORIGINAL-URL:https://artintersection.com
X-WR-CALDESC:Events for Art Intersection
REFRESH-INTERVAL;VALUE=DURATION:PT1H
X-Robots-Tag:noindex
X-PUBLISHED-TTL:PT1H
BEGIN:VTIMEZONE
TZID:America/Denver
BEGIN:DAYLIGHT
TZOFFSETFROM:-0700
TZOFFSETTO:-0600
TZNAME:MDT
DTSTART:20200308T090000
END:DAYLIGHT
BEGIN:STANDARD
TZOFFSETFROM:-0600
TZOFFSETTO:-0700
TZNAME:MST
DTSTART:20201101T080000
END:STANDARD
BEGIN:DAYLIGHT
TZOFFSETFROM:-0700
TZOFFSETTO:-0600
TZNAME:MDT
DTSTART:20210314T090000
END:DAYLIGHT
BEGIN:STANDARD
TZOFFSETFROM:-0600
TZOFFSETTO:-0700
TZNAME:MST
DTSTART:20211107T080000
END:STANDARD
END:VTIMEZONE
BEGIN:VEVENT
DTSTART;TZID=America/Denver:20201128T100000
DTEND;TZID=America/Denver:20210116T180000
DTSTAMP:20260425T173853
CREATED:20201119T003306Z
LAST-MODIFIED:20210107T032126Z
UID:20311-1606557600-1610820000@artintersection.com
SUMMARY:Little by Little
DESCRIPTION:Little by Little\, an exhibition of small artworks\, presents a wide variety of art expressed in a size no more than twelve-inches in any dimension. Amazing\, beautiful\, and impactful small works of art presented in a dedicated exhibition from a more intimate viewpoint that begs for a closer look! \nOur juror\, Andy Burgess\, selected strong works of art in all media\, including painting\, drawing\, sculpture\, textile\, photography\, printmaking\, metals\, wood\, digital media\, and more\, all presented perfectly in this intimate twelve-inch small format. \nThese incredible artworks make wonderful gifts for family\, friends\, or for you too. If you purchase a piece\, we will take it off the wall to take it home with you that day. We will also accept payments through PayPal and over the phone\, and package and ship anywhere in the world for your distant gift giving. \n\nVirtual Tour of Little by Little\nThis virtual tour through Little by Little in the Art Intersection Galleries lets you share the exhibition space with your friends and family that can’t visit us in the Gilbert Heritage District. Take a closer look at the individual images in the gallery below. \nLittle by Little Virtual Tour\n\nJuror Bio\nAndy Burgess\, a London-born artist\, currently resides in Tucson\, Arizona\, and is known for his renditions of modernist and mid-century architecture\, panoramic cityscape paintings\, and elaborate mosaic-like collages made from vintage papers and ephemera collected over many years. He continually expands his artistic vocabulary by mastering various media\, more recently immersing himself in photography and printmaking. Burgess is represented by galleries in San Francisco\, Laguna Beach\, New York and Etherton Gallery in Tucson.
URL:https://artintersection.com/event/little-by-little-2020/
LOCATION:Art Intersection\, 207 N Gilbert Rd # 210\, Gilbert\, AZ\, 85234\, United States
CATEGORIES:Hide from Upcoming,Exhibitions,Featured
ATTACH;FMTTYPE=image/jpeg:https://artintersection.com/wp-content/uploads/2020/11/LBL-Composite-811x415-1.jpg
GEO:33.3537421;-111.7894299
X-APPLE-STRUCTURED-LOCATION;VALUE=URI;X-ADDRESS=Art Intersection 207 N Gilbert Rd # 210 Gilbert AZ 85234 United States;X-APPLE-RADIUS=500;X-TITLE=207 N Gilbert Rd # 210:geo:-111.7894299,33.3537421
END:VEVENT
END:VCALENDAR