BEGIN:VCALENDAR
VERSION:2.0
PRODID:-//Art Intersection - ECPv6.5.0.1//NONSGML v1.0//EN
CALSCALE:GREGORIAN
METHOD:PUBLISH
X-WR-CALNAME:Art Intersection
X-ORIGINAL-URL:https://artintersection.com
X-WR-CALDESC:Events for Art Intersection
REFRESH-INTERVAL;VALUE=DURATION:PT1H
X-Robots-Tag:noindex
X-PUBLISHED-TTL:PT1H
BEGIN:VTIMEZONE
TZID:America/Denver
BEGIN:DAYLIGHT
TZOFFSETFROM:-0700
TZOFFSETTO:-0600
TZNAME:MDT
DTSTART:20140309T090000
END:DAYLIGHT
BEGIN:STANDARD
TZOFFSETFROM:-0600
TZOFFSETTO:-0700
TZNAME:MST
DTSTART:20141102T080000
END:STANDARD
END:VTIMEZONE
BEGIN:VEVENT
DTSTART;TZID=America/Denver:20140118T090000
DTEND;TZID=America/Denver:20140118T150000
DTSTAMP:20260423T214120
CREATED:20140102T210758Z
LAST-MODIFIED:20140102T211502Z
UID:2455-1390035600-1390057200@artintersection.com
SUMMARY:Get More From Your DSLR
DESCRIPTION:Get more from your DSLR camera through a better understanding of how it works and how to use more of the features of your DSLR. \nIn this workshop you will learn about types of lenses\, technical features of a DSLR\, and manual exposure and focus settings. Be sure to bring your manual as a reference for your camera specific menu settings. \nAfter a 2-hour classroom lecture the class will go out with the instructor to shoot images in Downtown Gilbert\, and return to review and discuss the images. \n\n9 – 11am  Classroom\n11am – 12:30pm  Shooting in Downtown Gilbert\n12:30 – 1pm  Lunch on your own\n1 – 3pm  Review images
URL:https://artintersection.com/event/get-more-from-your-dslr-18jan14/
LOCATION:Art Intersection\, 207 N Gilbert Rd # 210\, Gilbert\, AZ\, 85234\, United States
CATEGORIES:Digital,Get Involved
ATTACH;FMTTYPE=image/jpeg:https://artintersection.com/wp-content/uploads/2014/01/Using_a_DSLR.jpg
GEO:33.3537421;-111.7894299
X-APPLE-STRUCTURED-LOCATION;VALUE=URI;X-ADDRESS=Art Intersection 207 N Gilbert Rd # 210 Gilbert AZ 85234 United States;X-APPLE-RADIUS=500;X-TITLE=207 N Gilbert Rd # 210:geo:-111.7894299,33.3537421
END:VEVENT
END:VCALENDAR