BEGIN:VCALENDAR
VERSION:2.0
PRODID:-//Art Intersection - ECPv6.5.0.1//NONSGML v1.0//EN
CALSCALE:GREGORIAN
METHOD:PUBLISH
X-WR-CALNAME:Art Intersection
X-ORIGINAL-URL:https://artintersection.com
X-WR-CALDESC:Events for Art Intersection
REFRESH-INTERVAL;VALUE=DURATION:PT1H
X-Robots-Tag:noindex
X-PUBLISHED-TTL:PT1H
BEGIN:VTIMEZONE
TZID:America/Denver
BEGIN:DAYLIGHT
TZOFFSETFROM:-0700
TZOFFSETTO:-0600
TZNAME:MDT
DTSTART:20160313T090000
END:DAYLIGHT
BEGIN:STANDARD
TZOFFSETFROM:-0600
TZOFFSETTO:-0700
TZNAME:MST
DTSTART:20161106T080000
END:STANDARD
END:VTIMEZONE
BEGIN:VEVENT
DTSTART;TZID=America/Denver:20160206T080000
DTEND;TZID=America/Denver:20160409T170000
DTSTAMP:20260420T103931
CREATED:20160127T234847Z
LAST-MODIFIED:20160127T235043Z
UID:6628-1454745600-1460221200@artintersection.com
SUMMARY:Dancing Devils of Yare
DESCRIPTION:The Dancing Devils of Yare (Diablos Danzantes de Yare)\, a religious festivity representing the victory of good over evil through ritual dance performed by all male Dancing Devils\, has been celebrated since the 18th century in San Francisco de Yare\, Miranda State\, Venezuela. The Dancing Devils of Yare were recognized by UNESCO as an Intangible Cultural Heritage of Humanity in 2012. \nThe Sociedades del Santísimo (Societies of the Holiest)\, the oldest brotherhoods in the American continent\, are in charge of the celebrations. The brotherhoods are divided in hierarchical order\, represented by the number of horns in their masks.  Their celebration costumes comprise red shirts\, trousers and stockings\, a mask depicting a devil\, scapulars\, crosses\, rosaries\, and other sorts of amulets\, and carry in one hand a devil-shaped maraca and in the other a whip. \nThe folkloric festivity devotion is paid to the town’s patron Saint Francis de Paola\, to the Blessed Sacrament\, and to Jesus Christ as the devoted perform dances around the town’s main square and parade through the streets. \nLater in the day\, they move towards the front of the main church and once mass has ended the Eucharist is placed at the church’s entrance\, and a representation of a fight between the devils and the guardians takes place. Finally\, the devils surrender and kneel in front of the Eucharist to show submission. \nThis exhibition is a PhotoTapas event\, celebrating February as Arizona’s month of photography. \n \nAbout Gina Santi \nGina Santi was born and raised in Caracas\, Venezuela.  She graduated in Industrial Relations from the Universidad Católica Andrés Bello\, Caracas. She studied photography at the Universidad Santa María\, Caracas. She obtained her MBA from the Catholic University of America in Washington\, D.C. and continued her photography training at the Washington\, D.C. School of Photography.  She earned her Education degree and her M.A. in Cultural Anthropology from Northern Arizona University. \nShe teaches Spanish and Anthropology at the university level\, and in her capacity as an educator and administrator she has worked\, lived\, and traveled in many countries\, especially those where Spanish is the official language.
URL:https://artintersection.com/event/dancing-devils-of-yare/
CATEGORIES:Hide from Upcoming,Gallery 4,Community
ATTACH;FMTTYPE=image/jpeg:https://artintersection.com/wp-content/uploads/2015/02/Gallery4-YARE-31.jpg
END:VEVENT
END:VCALENDAR