BEGIN:VCALENDAR
VERSION:2.0
PRODID:-//Art Intersection - ECPv6.5.0.1//NONSGML v1.0//EN
CALSCALE:GREGORIAN
METHOD:PUBLISH
X-WR-CALNAME:Art Intersection
X-ORIGINAL-URL:https://artintersection.com
X-WR-CALDESC:Events for Art Intersection
REFRESH-INTERVAL;VALUE=DURATION:PT1H
X-Robots-Tag:noindex
X-PUBLISHED-TTL:PT1H
BEGIN:VTIMEZONE
TZID:America/Denver
BEGIN:DAYLIGHT
TZOFFSETFROM:-0700
TZOFFSETTO:-0600
TZNAME:MDT
DTSTART:20130310T090000
END:DAYLIGHT
BEGIN:STANDARD
TZOFFSETFROM:-0600
TZOFFSETTO:-0700
TZNAME:MST
DTSTART:20131103T080000
END:STANDARD
END:VTIMEZONE
BEGIN:VEVENT
DTSTART;TZID=America/Denver:20130708T120000
DTEND;TZID=America/Denver:20130712T160000
DTSTAMP:20260423T133109
CREATED:20130503T181412Z
LAST-MODIFIED:20130529T141354Z
UID:2048-1373284800-1373644800@artintersection.com
SUMMARY:Advanced Digital Photography\, Ages 14-17
DESCRIPTION:Make beautiful and practical artwork from your digital pictures! In this advanced workshop you will learn to implement digital photography into your artistic vision. Work with the latest in photo editing and refine your printing skills using Photoshop and Lightroom. Make digital negatives and learn to use them with experimental processes. Create your own digitally printed book of your work. Students will leave with a portfolio of their artwork and will be featured in an online exhibition at artintersection.com. \nStudents must have some foundation in digital photography or have taken the Introduction to Photography camp. Bring your own digital camera if you have one. Snacks provided. \nThere is a price savings when you enroll a student in more than one teen photography class; Introduction to Photography\, Advanced Digital Photography\, and Advanced Darkroom Photography. \n\nOne class tuition\, $180\nTwo class tuition\, $330\nThree class tuition\, $500\n\nThe bundled prices cannot be paid on our website. If you are interested in more than one class for a student\, call 480-361-1118 to register and pay for two or three classes. This special pricing is only offered as a bundle per student.
URL:https://artintersection.com/event/advanced-digital-photography-ages-14-17/
LOCATION:Art Intersection\, 207 N Gilbert Rd # 210\, Gilbert\, AZ\, 85234\, United States
CATEGORIES:Digital,Hide from Upcoming,Get Involved,Featured
ATTACH;FMTTYPE=image/jpeg:https://artintersection.com/wp-content/uploads/2013/05/Students-in-Digital-Lab.jpg
GEO:33.3537421;-111.7894299
X-APPLE-STRUCTURED-LOCATION;VALUE=URI;X-ADDRESS=Art Intersection 207 N Gilbert Rd # 210 Gilbert AZ 85234 United States;X-APPLE-RADIUS=500;X-TITLE=207 N Gilbert Rd # 210:geo:-111.7894299,33.3537421
END:VEVENT
END:VCALENDAR